BEGIN:VCALENDAR
VERSION:2.0
PRODID:-//Kommunalfabrik Ratsinformationssystem https://ris.naumburg-stadt.de/
X-WR-TIMEZONE:Europe/Berlin
X-WR-CALNAME:Sitzungskalender
X-WR-CALDESC:Ris Naumburg
BEGIN:VEVENT
UID:8C225875C8CDCDA0E3148DAAE8DDE6A5
ORGANIZER;CN="":MAILTO:
LOCATION:Grundschule Georgenschule, Raum 27, Wilhelm-Wagner-Straße 1, 06618 Naumburg (Saale), 18.00 Uhr Besichtigung Turnhalle der Georgenschule, Eingang über Georgenmauer,
SUMMARY:Ausschuss für Soziales, Familien und Sport
DESCRIPTION:Ausschuss für Soziales, Familien und Sport, Stadt Naumburg (Saale), Ausschuss für Soziales, Familien und Sport, Grundschule Georgenschule, Raum 27, Wilhelm-Wagner-Straße 1, 06618 Naumburg (Saale),, 18.00 Uhr Besichtigung Turnhalle der Georgenschule, Eingang über Georgenmauer,
CLASS:CONFIDENTIAL
DTSTART:20260428T163000Z
DTEND:20260428T215900Z
DTSTAMP:20260421T093156Z
END:VEVENT
END:VCALENDAR